BEGIN:VCALENDAR
VERSION:2.0
PRODID:-//TIP Innovationspark Nordheide - ECPv6.15.17.1//NONSGML v1.0//EN
CALSCALE:GREGORIAN
METHOD:PUBLISH
X-WR-CALNAME:TIP Innovationspark Nordheide
X-ORIGINAL-URL:https://tip-nordheide.eu
X-WR-CALDESC:Veranstaltungen für TIP Innovationspark Nordheide
REFRESH-INTERVAL;VALUE=DURATION:PT1H
X-Robots-Tag:noindex
X-PUBLISHED-TTL:PT1H
BEGIN:VTIMEZONE
TZID:Europe/Berlin
BEGIN:DAYLIGHT
TZOFFSETFROM:+0100
TZOFFSETTO:+0200
TZNAME:CEST
DTSTART:20250330T010000
END:DAYLIGHT
BEGIN:STANDARD
TZOFFSETFROM:+0200
TZOFFSETTO:+0100
TZNAME:CET
DTSTART:20251026T010000
END:STANDARD
BEGIN:DAYLIGHT
TZOFFSETFROM:+0100
TZOFFSETTO:+0200
TZNAME:CEST
DTSTART:20260329T010000
END:DAYLIGHT
BEGIN:STANDARD
TZOFFSETFROM:+0200
TZOFFSETTO:+0100
TZNAME:CET
DTSTART:20261025T010000
END:STANDARD
BEGIN:DAYLIGHT
TZOFFSETFROM:+0100
TZOFFSETTO:+0200
TZNAME:CEST
DTSTART:20270328T010000
END:DAYLIGHT
BEGIN:STANDARD
TZOFFSETFROM:+0200
TZOFFSETTO:+0100
TZNAME:CET
DTSTART:20271031T010000
END:STANDARD
END:VTIMEZONE
BEGIN:VEVENT
DTSTART;TZID=Europe/Berlin:20260903T133000
DTEND;TZID=Europe/Berlin:20260903T183000
DTSTAMP:20260420T134624
CREATED:20251209T144032Z
LAST-MODIFIED:20260224T104559Z
UID:1203-1788442200-1788460200@tip-nordheide.eu
SUMMARY:FACHFORUM Digitalisierung in KMU und Behörden
DESCRIPTION:Die WLH Wirtschaftsförderung im Landkreis Harburg GmbH lädt ein zum zweiten Fachforum Digitalisierung in KMU und Behörden. \nLive-Einblicke in KI-Agenten\, autonome Systeme\, digitale Zwillinge und moderne Vermessungstechnik: Das Fachforum 2026 zeigt\, wie Digitalisierung heute schon konkret funktioniert. Im Mittelpunkt stehen Anwendungen\, die bereits im Einsatz sind – nicht Visionen\, sondern Lösungen\, die Prozesse vereinfachen\, Entscheidungen unterstützen und Arbeit effizienter machen. Das Fachforum zeigt\, wie moderne Technologien bereits heute in Unternehmen und öffentlichen Einrichtungen angewendet werden können und welche Chancen sich daraus für die Zukunft ergeben. \nDie Veranstaltung richtet sich an kleine und mittlere Unternehmen\, Verwaltungen sowie Organisationen aus Forschung und Entwicklung. Nutzen Sie die Gelegenheit\, sich mit Experten aus Wirtschaft und Wissenschaft auszutauschen und geeignete Ansätze für Ihre eigene Organisation zu identifizieren. \nDas vollständige Programm sowie eine Übersicht der Referenten finden Sie in Kürze hier. \nSie haben bereits jetzt die Möglichkeit\, sich Ihre Teilnahme verbindlich über das Anmeldeformular zu sichern.\nDie Teilname ist kostenfrei\, die Plätze begrenzt.
URL:https://tip-nordheide.eu/event/fachforum-digitalisierung-in-kmu-und-behoerden/
LOCATION:ISI – Zentrum für Gründung\, Business & Innovation\, Bäckerstr. 6\, Buchholz\, 21244\, Deutschland
ATTACH;FMTTYPE=image/png:https://tip-nordheide.eu/wp-content/uploads/2025/12/Fachforum-Termin.png
END:VEVENT
END:VCALENDAR